BEGIN:VCALENDAR
VERSION:2.0
PRODID:-//Osada Kochany - ECPv6.5.1.6//NONSGML v1.0//EN
CALSCALE:GREGORIAN
METHOD:PUBLISH
X-ORIGINAL-URL:https://jastkowice.com.pl
X-WR-CALDESC:Events for Osada Kochany
REFRESH-INTERVAL;VALUE=DURATION:PT1H
X-Robots-Tag:noindex
X-PUBLISHED-TTL:PT1H
BEGIN:VTIMEZONE
TZID:UTC
BEGIN:STANDARD
TZOFFSETFROM:+0000
TZOFFSETTO:+0000
TZNAME:UTC
DTSTART:20260101T000000
END:STANDARD
END:VTIMEZONE
BEGIN:VEVENT
DTSTART;TZID=UTC:20260103T170000
DTEND;TZID=UTC:20260103T190000
DTSTAMP:20260422T111948
CREATED:20250919T074335Z
LAST-MODIFIED:20250919T074335Z
UID:14033-1767459600-1767466800@jastkowice.com.pl
SUMMARY:Prawdziwe Betlejem w Kochanach
DESCRIPTION:Bilety na wydarzenia \nŚciągając aplikacje biletyna nie jest pobierana opłata serwisowa! \nNajwiększy spektakl bożonarodzeniowy w Polsce​​\nPrawdziwe Betlejem w Kochanach” to wyjątkowe bożonarodzeniowe jasełka\, które przenoszą widzów w magiczny świat narodzin Jezusa. Spektakl odbywa się w malowniczej wsi Kochany i jest jednym z najpiękniejszych widowisk świątecznych w regionie. Dzięki starannie przygotowanym scenom\, żywym zwierzętom\, takim jak kozy\, owieczki i wielbłądy\, oraz realistycznym budynkom\, każdy może poczuć się jak w prawdziwym Betlejem sprzed dwóch tysięcy lat. \nW trakcie spektaklu\, podzielonego na dwie części – „Prawdziwe Betlejem” i „Kolęda z Herodem” – widzowie mają okazję zobaczyć rekonstrukcję narodzin Chrystusa oraz dramatyczne wydarzenia związane z Herodem\, wszystko urozmaicone śpiewem tradycyjnych kolęd. Spektakl przyciąga nie tylko wyjątkową scenerią\, ale także atmosferą pełną refleksji i magii świąt. \nPrzedstawienie odbywa się w otoczeniu starannie zbudowanej scenerii\, na widowni liczącej 350 miejsc\, co zapewnia każdemu widzowi komfortowe warunki do oglądania. Nie przegap tej okazji\, aby na żywo poczuć ducha Bożego Narodzenia w Kochanach! \nREGULAMIN \nDaty 2025/2026\n\n\n\nData\nGodzina\n\n\n27.12.2025\n17:00\n19:30\n\n\n28.12.2025\n17:00\n19:30\n\n\n03.01.2026\n17:00\n19:30\n\n\n04.01.2026\n17:00\n19:30\n\n\n10.01.2026\n17:00\nx\n\n\n\nKliknij w wybraną godzinę aby zobaczyć ilość miejsc i dostępne bilety. \nWażne informacje\n\nSpektakl przeznaczony wyłącznie dla widzów powyżej 5 roku życia*.\nWstęp na Spektakl minimum 30 min przed godziną rozpoczęcia!\nWidzowie spóźnieni nie mają możliwości uczestnictwa w Spektaklu.\nDojazd na Spektakl jest indywidualny\, droga jest oznaczona.\nProsimy o rozważne dobieranie dat i godzin uczestnictwa\, zwroty i zmiany są niemożliwe.\nBilety wysyłane są mailowo\, na miejscu będą skanowane\, prosimy je mieć w formie offline.\nNie ma możliwości wejścia na Spektakl bez wcześniejszego zakupu biletu.**\n\n*Z uwagi na to iż spektakl odbywa się pora wieczorowa\, trwa około 2 godziny\, występują żywe zwierzęta\, oraz efekty nagłośnieniowe które stresują małe dzieci i pobudzają ich do płaczu\, co ma negatywny wpływ na odbiór spektaklu przez osoby dorosłe\, które przyjeżdżają nawet kilkaset kilometrów\, aby przeżyć to wydarzenie – dzieci do 5 roku życia nie są wpuszczane na Spektakl. \n** nie ma możliwości dokupienia biletów na miejscu. \n \n Dbaj o jakość swojego biletu!\nDrodzy uczestnicy\, przypominamy\, że skanery nie odczytują kodów o niskiej jakości druku. Aby uniknąć problemów przy wejściu\, upewnij się\, że: \n\nTwój bilet jest wydrukowany w wysokiej jakości.\nJeśli nie masz możliwości wydruku\, przygotuj wersję offline na swoim telefonie (pamiętaj\, by ekran był jasny i wyraźny).\n\nZalecamy każdemu posiadanie biletu w formie offline – zwiększy to komfort i przyspieszy proces wejścia na spektakl. Pamiętaj! W Osadzie nie ma internetu i zasięgu! \nDojazd\nSugerowany dojazd przez Jastkowice. Dla widzów z woj. lubelskiego: dojazd przez Modliborzyce\, Potoczek\, Maliniec\, Świdry\, Kochany \n\n \nDroga w lesie z każdej strony jest oznaczona!\n\nGalerie i aktualności:\nGaleria: Prawdziwe Betlejem w Kochanach 4-5 01 2025Continue ReadingPrawdziwe Betlejem w Kochanach 2023/2024Continue ReadingZdjęcia z Prawdziwego Betlejem w Kochanach 2023Continue ReadingPrawdziwe Betlejem w Kochanach 2023Continue ReadingSpektakl Prawdziwe Betlejem w KochanachContinue ReadingDroga dojazdowa do Osady KochanyContinue ReadingPremiera Spektakli Prawdziwe Betlejem w Kochanach 2022Continue Reading
URL:https://jastkowice.com.pl/event/prawdziwe-betlejem-w-kochanach-12/
LOCATION:Kochany\, Jastkowice\, Kochany 8\, Jastkowice\, podkarpackie\, 37-403\, Poland
CATEGORIES:Prawdziwe Betlejem w Kochanach,Spektakl
ATTACH;FMTTYPE=image/jpeg:https://jastkowice.com.pl/wp-content/uploads/2025/09/Betlejem-w-Kochanach_900x900.jpg
ORGANIZER;CN="Jastkowickie Stowarzyszenie Dziedzictwo i Pami%C4%99%C4%87":MAILTO:biuro@jastkowice.com.pl
END:VEVENT
BEGIN:VEVENT
DTSTART;TZID=UTC:20260103T193000
DTEND;TZID=UTC:20260103T213000
DTSTAMP:20260422T111948
CREATED:20250919T073610Z
LAST-MODIFIED:20250919T073610Z
UID:14026-1767468600-1767475800@jastkowice.com.pl
SUMMARY:Prawdziwe Betlejem w Kochanach
DESCRIPTION:Bilety na wydarzenia \nŚciągając aplikacje biletyna nie jest pobierana opłata serwisowa! \nNajwiększy spektakl bożonarodzeniowy w Polsce​​\nPrawdziwe Betlejem w Kochanach” to wyjątkowe bożonarodzeniowe jasełka\, które przenoszą widzów w magiczny świat narodzin Jezusa. Spektakl odbywa się w malowniczej wsi Kochany i jest jednym z najpiękniejszych widowisk świątecznych w regionie. Dzięki starannie przygotowanym scenom\, żywym zwierzętom\, takim jak kozy\, owieczki i wielbłądy\, oraz realistycznym budynkom\, każdy może poczuć się jak w prawdziwym Betlejem sprzed dwóch tysięcy lat. \nW trakcie spektaklu\, podzielonego na dwie części – „Prawdziwe Betlejem” i „Kolęda z Herodem” – widzowie mają okazję zobaczyć rekonstrukcję narodzin Chrystusa oraz dramatyczne wydarzenia związane z Herodem\, wszystko urozmaicone śpiewem tradycyjnych kolęd. Spektakl przyciąga nie tylko wyjątkową scenerią\, ale także atmosferą pełną refleksji i magii świąt. \nPrzedstawienie odbywa się w otoczeniu starannie zbudowanej scenerii\, na widowni liczącej 350 miejsc\, co zapewnia każdemu widzowi komfortowe warunki do oglądania. Nie przegap tej okazji\, aby na żywo poczuć ducha Bożego Narodzenia w Kochanach! \nREGULAMIN \nDaty 2025/2026\n\n\n\nData\nGodzina\n\n\n27.12.2025\n17:00\n19:30\n\n\n28.12.2025\n17:00\n19:30\n\n\n03.01.2026\n17:00\n19:30\n\n\n04.01.2026\n17:00\n19:30\n\n\n10.01.2026\n17:00\nx\n\n\n\nKliknij w wybraną godzinę aby zobaczyć ilość miejsc i dostępne bilety. \nWażne informacje\n\nSpektakl przeznaczony wyłącznie dla widzów powyżej 5 roku życia*.\nWstęp na Spektakl minimum 30 min przed godziną rozpoczęcia!\nWidzowie spóźnieni nie mają możliwości uczestnictwa w Spektaklu.\nDojazd na Spektakl jest indywidualny\, droga jest oznaczona.\nProsimy o rozważne dobieranie dat i godzin uczestnictwa\, zwroty i zmiany są niemożliwe.\nBilety wysyłane są mailowo\, na miejscu będą skanowane\, prosimy je mieć w formie offline.\nNie ma możliwości wejścia na Spektakl bez wcześniejszego zakupu biletu.**\n\n*Z uwagi na to iż spektakl odbywa się pora wieczorowa\, trwa około 2 godziny\, występują żywe zwierzęta\, oraz efekty nagłośnieniowe które stresują małe dzieci i pobudzają ich do płaczu\, co ma negatywny wpływ na odbiór spektaklu przez osoby dorosłe\, które przyjeżdżają nawet kilkaset kilometrów\, aby przeżyć to wydarzenie – dzieci do 5 roku życia nie są wpuszczane na Spektakl. \n** nie ma możliwości dokupienia biletów na miejscu. \n \n Dbaj o jakość swojego biletu!\nDrodzy uczestnicy\, przypominamy\, że skanery nie odczytują kodów o niskiej jakości druku. Aby uniknąć problemów przy wejściu\, upewnij się\, że: \n\nTwój bilet jest wydrukowany w wysokiej jakości.\nJeśli nie masz możliwości wydruku\, przygotuj wersję offline na swoim telefonie (pamiętaj\, by ekran był jasny i wyraźny).\n\nZalecamy każdemu posiadanie biletu w formie offline – zwiększy to komfort i przyspieszy proces wejścia na spektakl. Pamiętaj! W Osadzie nie ma internetu i zasięgu! \nDojazd\nSugerowany dojazd przez Jastkowice. Dla widzów z woj. lubelskiego: dojazd przez Modliborzyce\, Potoczek\, Maliniec\, Świdry\, Kochany \n\n \nDroga w lesie z każdej strony jest oznaczona!\n\nGalerie i aktualności:\nGaleria: Prawdziwe Betlejem w Kochanach 4-5 01 2025Continue ReadingPrawdziwe Betlejem w Kochanach 2023/2024Continue ReadingZdjęcia z Prawdziwego Betlejem w Kochanach 2023Continue ReadingPrawdziwe Betlejem w Kochanach 2023Continue ReadingSpektakl Prawdziwe Betlejem w KochanachContinue ReadingDroga dojazdowa do Osady KochanyContinue ReadingPremiera Spektakli Prawdziwe Betlejem w Kochanach 2022Continue Reading
URL:https://jastkowice.com.pl/event/prawdziwe-betlejem-w-kochanach-10/
LOCATION:Kochany\, Jastkowice\, Kochany 8\, Jastkowice\, podkarpackie\, 37-403\, Poland
CATEGORIES:Prawdziwe Betlejem w Kochanach,Spektakl
ATTACH;FMTTYPE=image/jpeg:https://jastkowice.com.pl/wp-content/uploads/2025/09/Betlejem-w-Kochanach_900x900.jpg
ORGANIZER;CN="Jastkowickie Stowarzyszenie Dziedzictwo i Pami%C4%99%C4%87":MAILTO:biuro@jastkowice.com.pl
END:VEVENT
BEGIN:VEVENT
DTSTART;TZID=UTC:20260104T170000
DTEND;TZID=UTC:20260104T190000
DTSTAMP:20260422T111948
CREATED:20250919T074612Z
LAST-MODIFIED:20250919T074612Z
UID:14035-1767546000-1767553200@jastkowice.com.pl
SUMMARY:Prawdziwe Betlejem w Kochanach
DESCRIPTION:Bilety na wydarzenia \nŚciągając aplikacje biletyna nie jest pobierana opłata serwisowa! \nNajwiększy spektakl bożonarodzeniowy w Polsce​​\nPrawdziwe Betlejem w Kochanach” to wyjątkowe bożonarodzeniowe jasełka\, które przenoszą widzów w magiczny świat narodzin Jezusa. Spektakl odbywa się w malowniczej wsi Kochany i jest jednym z najpiękniejszych widowisk świątecznych w regionie. Dzięki starannie przygotowanym scenom\, żywym zwierzętom\, takim jak kozy\, owieczki i wielbłądy\, oraz realistycznym budynkom\, każdy może poczuć się jak w prawdziwym Betlejem sprzed dwóch tysięcy lat. \nW trakcie spektaklu\, podzielonego na dwie części – „Prawdziwe Betlejem” i „Kolęda z Herodem” – widzowie mają okazję zobaczyć rekonstrukcję narodzin Chrystusa oraz dramatyczne wydarzenia związane z Herodem\, wszystko urozmaicone śpiewem tradycyjnych kolęd. Spektakl przyciąga nie tylko wyjątkową scenerią\, ale także atmosferą pełną refleksji i magii świąt. \nPrzedstawienie odbywa się w otoczeniu starannie zbudowanej scenerii\, na widowni liczącej 350 miejsc\, co zapewnia każdemu widzowi komfortowe warunki do oglądania. Nie przegap tej okazji\, aby na żywo poczuć ducha Bożego Narodzenia w Kochanach! \nREGULAMIN \nDaty 2025/2026\n\n\n\nData\nGodzina\n\n\n27.12.2025\n17:00\n19:30\n\n\n28.12.2025\n17:00\n19:30\n\n\n03.01.2026\n17:00\n19:30\n\n\n04.01.2026\n17:00\n19:30\n\n\n10.01.2026\n17:00\nx\n\n\n\nKliknij w wybraną godzinę aby zobaczyć ilość miejsc i dostępne bilety. \nWażne informacje\n\nSpektakl przeznaczony wyłącznie dla widzów powyżej 5 roku życia*.\nWstęp na Spektakl minimum 30 min przed godziną rozpoczęcia!\nWidzowie spóźnieni nie mają możliwości uczestnictwa w Spektaklu.\nDojazd na Spektakl jest indywidualny\, droga jest oznaczona.\nProsimy o rozważne dobieranie dat i godzin uczestnictwa\, zwroty i zmiany są niemożliwe.\nBilety wysyłane są mailowo\, na miejscu będą skanowane\, prosimy je mieć w formie offline.\nNie ma możliwości wejścia na Spektakl bez wcześniejszego zakupu biletu.**\n\n*Z uwagi na to iż spektakl odbywa się pora wieczorowa\, trwa około 2 godziny\, występują żywe zwierzęta\, oraz efekty nagłośnieniowe które stresują małe dzieci i pobudzają ich do płaczu\, co ma negatywny wpływ na odbiór spektaklu przez osoby dorosłe\, które przyjeżdżają nawet kilkaset kilometrów\, aby przeżyć to wydarzenie – dzieci do 5 roku życia nie są wpuszczane na Spektakl. \n** nie ma możliwości dokupienia biletów na miejscu. \n \n Dbaj o jakość swojego biletu!\nDrodzy uczestnicy\, przypominamy\, że skanery nie odczytują kodów o niskiej jakości druku. Aby uniknąć problemów przy wejściu\, upewnij się\, że: \n\nTwój bilet jest wydrukowany w wysokiej jakości.\nJeśli nie masz możliwości wydruku\, przygotuj wersję offline na swoim telefonie (pamiętaj\, by ekran był jasny i wyraźny).\n\nZalecamy każdemu posiadanie biletu w formie offline – zwiększy to komfort i przyspieszy proces wejścia na spektakl. Pamiętaj! W Osadzie nie ma internetu i zasięgu! \nDojazd\nSugerowany dojazd przez Jastkowice. Dla widzów z woj. lubelskiego: dojazd przez Modliborzyce\, Potoczek\, Maliniec\, Świdry\, Kochany \n\n \nDroga w lesie z każdej strony jest oznaczona!\n\nGalerie i aktualności:\nGaleria: Prawdziwe Betlejem w Kochanach 4-5 01 2025Continue ReadingPrawdziwe Betlejem w Kochanach 2023/2024Continue ReadingZdjęcia z Prawdziwego Betlejem w Kochanach 2023Continue ReadingPrawdziwe Betlejem w Kochanach 2023Continue ReadingSpektakl Prawdziwe Betlejem w KochanachContinue ReadingDroga dojazdowa do Osady KochanyContinue ReadingPremiera Spektakli Prawdziwe Betlejem w Kochanach 2022Continue Reading
URL:https://jastkowice.com.pl/event/prawdziwe-betlejem-w-kochanach-13/
LOCATION:Kochany\, Jastkowice\, Kochany 8\, Jastkowice\, podkarpackie\, 37-403\, Poland
CATEGORIES:Prawdziwe Betlejem w Kochanach,Spektakl
ATTACH;FMTTYPE=image/jpeg:https://jastkowice.com.pl/wp-content/uploads/2025/09/Betlejem-w-Kochanach_900x900.jpg
ORGANIZER;CN="Jastkowickie Stowarzyszenie Dziedzictwo i Pami%C4%99%C4%87":MAILTO:biuro@jastkowice.com.pl
END:VEVENT
BEGIN:VEVENT
DTSTART;TZID=UTC:20260104T193000
DTEND;TZID=UTC:20260104T213000
DTSTAMP:20260422T111948
CREATED:20250919T073926Z
LAST-MODIFIED:20250919T074009Z
UID:14031-1767555000-1767562200@jastkowice.com.pl
SUMMARY:Prawdziwe Betlejem w Kochanach
DESCRIPTION:Bilety na wydarzenia \nŚciągając aplikacje biletyna nie jest pobierana opłata serwisowa! \nNajwiększy spektakl bożonarodzeniowy w Polsce​​\nPrawdziwe Betlejem w Kochanach” to wyjątkowe bożonarodzeniowe jasełka\, które przenoszą widzów w magiczny świat narodzin Jezusa. Spektakl odbywa się w malowniczej wsi Kochany i jest jednym z najpiękniejszych widowisk świątecznych w regionie. Dzięki starannie przygotowanym scenom\, żywym zwierzętom\, takim jak kozy\, owieczki i wielbłądy\, oraz realistycznym budynkom\, każdy może poczuć się jak w prawdziwym Betlejem sprzed dwóch tysięcy lat. \nW trakcie spektaklu\, podzielonego na dwie części – „Prawdziwe Betlejem” i „Kolęda z Herodem” – widzowie mają okazję zobaczyć rekonstrukcję narodzin Chrystusa oraz dramatyczne wydarzenia związane z Herodem\, wszystko urozmaicone śpiewem tradycyjnych kolęd. Spektakl przyciąga nie tylko wyjątkową scenerią\, ale także atmosferą pełną refleksji i magii świąt. \nPrzedstawienie odbywa się w otoczeniu starannie zbudowanej scenerii\, na widowni liczącej 350 miejsc\, co zapewnia każdemu widzowi komfortowe warunki do oglądania. Nie przegap tej okazji\, aby na żywo poczuć ducha Bożego Narodzenia w Kochanach! \nREGULAMIN \nDaty 2025/2026\n\n\n\nData\nGodzina\n\n\n27.12.2025\n17:00\n19:30\n\n\n28.12.2025\n17:00\n19:30\n\n\n03.01.2026\n17:00\n19:30\n\n\n04.01.2026\n17:00\n19:30\n\n\n10.01.2026\n17:00\nx\n\n\n\nKliknij w wybraną godzinę aby zobaczyć ilość miejsc i dostępne bilety. \nWażne informacje\n\nSpektakl przeznaczony wyłącznie dla widzów powyżej 5 roku życia*.\nWstęp na Spektakl minimum 30 min przed godziną rozpoczęcia!\nWidzowie spóźnieni nie mają możliwości uczestnictwa w Spektaklu.\nDojazd na Spektakl jest indywidualny\, droga jest oznaczona.\nProsimy o rozważne dobieranie dat i godzin uczestnictwa\, zwroty i zmiany są niemożliwe.\nBilety wysyłane są mailowo\, na miejscu będą skanowane\, prosimy je mieć w formie offline.\nNie ma możliwości wejścia na Spektakl bez wcześniejszego zakupu biletu.**\n\n*Z uwagi na to iż spektakl odbywa się pora wieczorowa\, trwa około 2 godziny\, występują żywe zwierzęta\, oraz efekty nagłośnieniowe które stresują małe dzieci i pobudzają ich do płaczu\, co ma negatywny wpływ na odbiór spektaklu przez osoby dorosłe\, które przyjeżdżają nawet kilkaset kilometrów\, aby przeżyć to wydarzenie – dzieci do 5 roku życia nie są wpuszczane na Spektakl. \n** nie ma możliwości dokupienia biletów na miejscu. \n \n Dbaj o jakość swojego biletu!\nDrodzy uczestnicy\, przypominamy\, że skanery nie odczytują kodów o niskiej jakości druku. Aby uniknąć problemów przy wejściu\, upewnij się\, że: \n\nTwój bilet jest wydrukowany w wysokiej jakości.\nJeśli nie masz możliwości wydruku\, przygotuj wersję offline na swoim telefonie (pamiętaj\, by ekran był jasny i wyraźny).\n\nZalecamy każdemu posiadanie biletu w formie offline – zwiększy to komfort i przyspieszy proces wejścia na spektakl. Pamiętaj! W Osadzie nie ma internetu i zasięgu! \nDojazd\nSugerowany dojazd przez Jastkowice. Dla widzów z woj. lubelskiego: dojazd przez Modliborzyce\, Potoczek\, Maliniec\, Świdry\, Kochany \n\n \nDroga w lesie z każdej strony jest oznaczona!\n\nGalerie i aktualności:\nGaleria: Prawdziwe Betlejem w Kochanach 4-5 01 2025Continue ReadingPrawdziwe Betlejem w Kochanach 2023/2024Continue ReadingZdjęcia z Prawdziwego Betlejem w Kochanach 2023Continue ReadingPrawdziwe Betlejem w Kochanach 2023Continue ReadingSpektakl Prawdziwe Betlejem w KochanachContinue ReadingDroga dojazdowa do Osady KochanyContinue ReadingPremiera Spektakli Prawdziwe Betlejem w Kochanach 2022Continue Reading
URL:https://jastkowice.com.pl/event/prawdziwe-betlejem-w-kochanach-11/
LOCATION:Kochany\, Jastkowice\, Kochany 8\, Jastkowice\, podkarpackie\, 37-403\, Poland
CATEGORIES:Prawdziwe Betlejem w Kochanach,Spektakl
ATTACH;FMTTYPE=image/jpeg:https://jastkowice.com.pl/wp-content/uploads/2025/09/Betlejem-w-Kochanach_900x900.jpg
ORGANIZER;CN="Jastkowickie Stowarzyszenie Dziedzictwo i Pami%C4%99%C4%87":MAILTO:biuro@jastkowice.com.pl
END:VEVENT
BEGIN:VEVENT
DTSTART;TZID=UTC:20260110T170000
DTEND;TZID=UTC:20260110T190000
DTSTAMP:20260422T111948
CREATED:20250919T074951Z
LAST-MODIFIED:20250919T074951Z
UID:14037-1768064400-1768071600@jastkowice.com.pl
SUMMARY:Prawdziwe Betlejem w Kochanach
DESCRIPTION:Bilety na wydarzenia \nŚciągając aplikacje biletyna nie jest pobierana opłata serwisowa! \nNajwiększy spektakl bożonarodzeniowy w Polsce​​\nPrawdziwe Betlejem w Kochanach” to wyjątkowe bożonarodzeniowe jasełka\, które przenoszą widzów w magiczny świat narodzin Jezusa. Spektakl odbywa się w malowniczej wsi Kochany i jest jednym z najpiękniejszych widowisk świątecznych w regionie. Dzięki starannie przygotowanym scenom\, żywym zwierzętom\, takim jak kozy\, owieczki i wielbłądy\, oraz realistycznym budynkom\, każdy może poczuć się jak w prawdziwym Betlejem sprzed dwóch tysięcy lat. \nW trakcie spektaklu\, podzielonego na dwie części – „Prawdziwe Betlejem” i „Kolęda z Herodem” – widzowie mają okazję zobaczyć rekonstrukcję narodzin Chrystusa oraz dramatyczne wydarzenia związane z Herodem\, wszystko urozmaicone śpiewem tradycyjnych kolęd. Spektakl przyciąga nie tylko wyjątkową scenerią\, ale także atmosferą pełną refleksji i magii świąt. \nPrzedstawienie odbywa się w otoczeniu starannie zbudowanej scenerii\, na widowni liczącej 350 miejsc\, co zapewnia każdemu widzowi komfortowe warunki do oglądania. Nie przegap tej okazji\, aby na żywo poczuć ducha Bożego Narodzenia w Kochanach! \nREGULAMIN \nDaty 2025/2026\n\n\n\nData\nGodzina\n\n\n27.12.2025\n17:00\n19:30\n\n\n28.12.2025\n17:00\n19:30\n\n\n03.01.2026\n17:00\n19:30\n\n\n04.01.2026\n17:00\n19:30\n\n\n10.01.2026\n17:00\nx\n\n\n\nKliknij w wybraną godzinę aby zobaczyć ilość miejsc i dostępne bilety. \nWażne informacje\n\nSpektakl przeznaczony wyłącznie dla widzów powyżej 5 roku życia*.\nWstęp na Spektakl minimum 30 min przed godziną rozpoczęcia!\nWidzowie spóźnieni nie mają możliwości uczestnictwa w Spektaklu.\nDojazd na Spektakl jest indywidualny\, droga jest oznaczona.\nProsimy o rozważne dobieranie dat i godzin uczestnictwa\, zwroty i zmiany są niemożliwe.\nBilety wysyłane są mailowo\, na miejscu będą skanowane\, prosimy je mieć w formie offline.\nNie ma możliwości wejścia na Spektakl bez wcześniejszego zakupu biletu.**\n\n*Z uwagi na to iż spektakl odbywa się pora wieczorowa\, trwa około 2 godziny\, występują żywe zwierzęta\, oraz efekty nagłośnieniowe które stresują małe dzieci i pobudzają ich do płaczu\, co ma negatywny wpływ na odbiór spektaklu przez osoby dorosłe\, które przyjeżdżają nawet kilkaset kilometrów\, aby przeżyć to wydarzenie – dzieci do 5 roku życia nie są wpuszczane na Spektakl. \n** nie ma możliwości dokupienia biletów na miejscu. \n \n Dbaj o jakość swojego biletu!\nDrodzy uczestnicy\, przypominamy\, że skanery nie odczytują kodów o niskiej jakości druku. Aby uniknąć problemów przy wejściu\, upewnij się\, że: \n\nTwój bilet jest wydrukowany w wysokiej jakości.\nJeśli nie masz możliwości wydruku\, przygotuj wersję offline na swoim telefonie (pamiętaj\, by ekran był jasny i wyraźny).\n\nZalecamy każdemu posiadanie biletu w formie offline – zwiększy to komfort i przyspieszy proces wejścia na spektakl. Pamiętaj! W Osadzie nie ma internetu i zasięgu! \nDojazd\nSugerowany dojazd przez Jastkowice. Dla widzów z woj. lubelskiego: dojazd przez Modliborzyce\, Potoczek\, Maliniec\, Świdry\, Kochany \n\n \nDroga w lesie z każdej strony jest oznaczona!\n\nGalerie i aktualności:\nGaleria: Prawdziwe Betlejem w Kochanach 4-5 01 2025Continue ReadingPrawdziwe Betlejem w Kochanach 2023/2024Continue ReadingZdjęcia z Prawdziwego Betlejem w Kochanach 2023Continue ReadingPrawdziwe Betlejem w Kochanach 2023Continue ReadingSpektakl Prawdziwe Betlejem w KochanachContinue ReadingDroga dojazdowa do Osady KochanyContinue ReadingPremiera Spektakli Prawdziwe Betlejem w Kochanach 2022Continue Reading
URL:https://jastkowice.com.pl/event/prawdziwe-betlejem-w-kochanach-14/
LOCATION:Kochany\, Jastkowice\, Kochany 8\, Jastkowice\, podkarpackie\, 37-403\, Poland
CATEGORIES:Prawdziwe Betlejem w Kochanach,Spektakl
ATTACH;FMTTYPE=image/jpeg:https://jastkowice.com.pl/wp-content/uploads/2025/09/Betlejem-w-Kochanach_900x900.jpg
ORGANIZER;CN="Jastkowickie Stowarzyszenie Dziedzictwo i Pami%C4%99%C4%87":MAILTO:biuro@jastkowice.com.pl
END:VEVENT
END:VCALENDAR