BEGIN:VCALENDAR
VERSION:2.0
PRODID:-//Osada Kochany - ECPv6.5.1.6//NONSGML v1.0//EN
CALSCALE:GREGORIAN
METHOD:PUBLISH
X-ORIGINAL-URL:https://jastkowice.com.pl
X-WR-CALDESC:Events for Osada Kochany
REFRESH-INTERVAL;VALUE=DURATION:PT1H
X-Robots-Tag:noindex
X-PUBLISHED-TTL:PT1H
BEGIN:VTIMEZONE
TZID:UTC
BEGIN:STANDARD
TZOFFSETFROM:+0000
TZOFFSETTO:+0000
TZNAME:UTC
DTSTART:20250101T000000
END:STANDARD
END:VTIMEZONE
BEGIN:VEVENT
DTSTART;TZID=UTC:20251019T100000
DTEND;TZID=UTC:20251019T150000
DTSTAMP:20260422T162812
CREATED:20250912T135032Z
LAST-MODIFIED:20250915T101450Z
UID:13950-1760868000-1760886000@jastkowice.com.pl
SUMMARY:I Jesienny Rajd Rowerowy
DESCRIPTION:I Jesienny Rajd Rowerowy\nDołącz do rekreacyjnego rajdu rowerowego po lasach janowskich już 19 października! Przejedź 50 km malowniczą trasą\, odwiedź ciekawe miejsca i odpocznij przy Karczmie Kochańskiej. Start o 10:00 w Jastkowicach. Aktywny wypoczynek\, integracja i wspólnie spędzony czas gwarantowane! \n			zapisz się		 \nSport\, Historia\, Integracja\nJuż 19 października serdecznie zapraszamy wszystkich miłośników dwóch kółek na wyjątkowy\, wiosenny rajd rowerowy\, który poprowadzi przez malownicze zakątki lasów janowskich. Trasa o długości około 50 kilometrów została zaplanowana tak\, by każdy mógł cieszyć się nie tylko jazdą\, ale i otaczającą przyrodą. \nPo drodze zobaczysz miejsca oraz miejsca pamięci\, które pozwolą nie tylko aktywnie wypocząć\, ale również na chwilę zadumy i refleksji nad historią naszego regionu. Rajd to okazja\, by połączyć rekreację z odkrywaniem lokalnych skarbów przyrody i kultury. \nPodczas trasy przewidziany jest poczęstunek w Karczmie Kochańskiej\, gdzie będzie można zregenerować siły i odpocząć w klimatycznym miejscu w sercu lasu. \nZachęcamy do udziału zarówno osoby indywidualne\, jak i rodziny czy grupy znajomych.To świetna okazja do spędzenia czasu razem\, z dala od codziennego pośpiechu i ekranów. Nic tak nie łączy\, jak wspólna przygoda\, dzielenie się wrażeniami z trasy i radość z pokonywania kolejnych kilometrów w dobrym towarzystwie! \nRajd rowerowy to nie tylko sport – to integracja\, budowanie relacji i wspólne przeżywanie przygody. Niezależnie od wieku czy kondycji – liczy się chęć wspólnego działania i pozytywna energia! \n			\n									Zapisz się!\n					 \nOrientacyjna trasa:\n			\n			Data: \n19.10.2025 (niedziela) \nStart: \nZbiórka o godzinie 10:00 przy Stadionie Sportowym w Jastkowicach\, ul. Sosnowa \nTrasa: \nok. 50 km (z przerwami) \n													\n			Zapisz się!
URL:https://jastkowice.com.pl/event/i-jesienny-rajd-rowerowy/
CATEGORIES:Sport
ATTACH;FMTTYPE=image/jpeg:https://jastkowice.com.pl/wp-content/uploads/2025/09/I-rekreacyjny-rajd-rowerowy-2025-plakat-SM-poziom-dofinanzowanie-.jpg
ORGANIZER;CN="Jastkowickie Stowarzyszenie Dziedzictwo i Pami%C4%99%C4%87":MAILTO:biuro@jastkowice.com.pl
END:VEVENT
END:VCALENDAR