BEGIN:VCALENDAR
VERSION:2.0
PRODID:-//Osada Kochany - ECPv6.5.1.6//NONSGML v1.0//EN
CALSCALE:GREGORIAN
METHOD:PUBLISH
X-ORIGINAL-URL:https://jastkowice.com.pl
X-WR-CALDESC:Events for Osada Kochany
REFRESH-INTERVAL;VALUE=DURATION:PT1H
X-Robots-Tag:noindex
X-PUBLISHED-TTL:PT1H
BEGIN:VTIMEZONE
TZID:UTC
BEGIN:STANDARD
TZOFFSETFROM:+0000
TZOFFSETTO:+0000
TZNAME:UTC
DTSTART:20240101T000000
END:STANDARD
END:VTIMEZONE
BEGIN:VEVENT
DTSTART;TZID=UTC:20240901T110000
DTEND;TZID=UTC:20240901T133000
DTSTAMP:20260419T120202
CREATED:20240713T223119Z
LAST-MODIFIED:20240829T073849Z
UID:12421-1725188400-1725197400@jastkowice.com.pl
SUMMARY:Uroczystości uczczenia 85. rocznicy śmierci kaprala Franciszka Dziuby
DESCRIPTION:Wójt Gminy Pysznica oraz Prezes Jastkowickiego Stowarzyszenia “Dziedzictwo i Pamięć” \nzapraszają na uroczystości uczczenia 85. rocznicy śmierci kaprala Franciszka Dziuby które odbędą się 1 września 2024 r. w Jastkowicach \nw tym dniu obchodzimy również święto Jastkowickiego Stowarzyszenia Kulturalno-Historycznego Dziedzictwo i Pamięć \n Program: \n11:00 Uroczysta Msza Święta w Kościele Parafialnym pw. Przemienienia Pańskiego w Jastkowicach \n  \n12:00 Złożenie kwiatów pod tablicą upamiętniającą kaprala Franciszka Dziubę przy Publicznej Szkole Podstawowej im. Armii Krakowej w Jastkowicach \n  \n12:30 Koncert Pieśni Żołnierskich w wykonaniu Grupy Rekonstrukcyjnej Żołnierzy Wojska Polskiego “Wrzesień 1939” pod batutą Edwarda F. Horoszko w sali filii Domu Kultury w Jastkowicach \n			Działania patriotyczneGrupa Rekonstrukcyjna Żołnierzy Wojska Polskiego "Wrzesień 1939"		 \nGrupa bierze udział w rekonstrukcjach wydarzeń historycznych\, filmach i innych imprezach masowych. Działania mają na celu propagowanie postaw patriotycznych i szacunku dla polskiego i regionalnego dziedzictwa kulturowego oraz historii. \n			Czytaj więcej
URL:https://jastkowice.com.pl/event/uroczystosci-gminne/
LOCATION:Jastkowice\, Jastkowice\, 37-403
CATEGORIES:Grupa Rekonstrukcyjna,Koncert
ATTACH;FMTTYPE=image/jpeg:https://jastkowice.com.pl/wp-content/uploads/2024/07/uroczystosci-uczczenia-85.-rocznicy-smierci-kaprala-Franciszka-Dziuby.jpg
END:VEVENT
BEGIN:VEVENT
DTSTART;TZID=UTC:20240929T130000
DTEND;TZID=UTC:20240929T160000
DTSTAMP:20260419T120202
CREATED:20240713T223242Z
LAST-MODIFIED:20240924T234849Z
UID:12423-1727614800-1727625600@jastkowice.com.pl
SUMMARY:Uroczyste obchody 82 rocznicy Pacyfikacji Wsi Kochany
DESCRIPTION:Wójt Gminy Pysznica Łukasz Bajgierowicz oraz Przewodniczący Rady Gminy Pysznica Krzysztof Skrzypek serdecznie zapraszają na uroczyste obchody 82. rocznicy pacyfikacji wsi Kochany \, które rozpoczną się 29 września o godzinie 13:00. \nW programie uroczystości: \n\nKoncert pieśni żołnierskich w wykonaniu Grupy Rekonstrukcyjnej Żołnierzy Wojska Polskiego „Wrzesień 1939” z Jastkowic\,\nProgram artystyczny uczniów Publicznej Szkoły Podstawowej im. Armii Krajowej w Jastkowicach\,\nMsza Święta Polowa w intencji pomordowanych\,\nApel Poległych przy zabytkowym cmentarzu wojennym w Kochanach.\n\nSerdecznie zapraszamy do wspólnego uczczenia pamięci ofiar oraz oddania hołdu poległym.
URL:https://jastkowice.com.pl/event/uroczyste-obchody-82-rocznicy-pacyfikacji-wsi-kochany/
CATEGORIES:Koncert
ATTACH;FMTTYPE=image/jpeg:https://jastkowice.com.pl/wp-content/uploads/2024/07/uroczyste-obchody-82-rocznicy-pacyfikacji-wsi-kochany.jpg
END:VEVENT
END:VCALENDAR