BEGIN:VCALENDAR
VERSION:2.0
PRODID:-//Osada Kochany - ECPv6.5.1.6//NONSGML v1.0//EN
CALSCALE:GREGORIAN
METHOD:PUBLISH
X-WR-CALNAME:Osada Kochany
X-ORIGINAL-URL:https://jastkowice.com.pl
X-WR-CALDESC:Events for Osada Kochany
REFRESH-INTERVAL;VALUE=DURATION:PT1H
X-Robots-Tag:noindex
X-PUBLISHED-TTL:PT1H
BEGIN:VTIMEZONE
TZID:America/Los_Angeles
BEGIN:DAYLIGHT
TZOFFSETFROM:-0800
TZOFFSETTO:-0700
TZNAME:PDT
DTSTART:20240310T100000
END:DAYLIGHT
BEGIN:STANDARD
TZOFFSETFROM:-0700
TZOFFSETTO:-0800
TZNAME:PST
DTSTART:20241103T090000
END:STANDARD
END:VTIMEZONE
BEGIN:VEVENT
DTSTART;TZID=America/Los_Angeles:20241111T150000
DTEND;TZID=America/Los_Angeles:20241111T173000
DTSTAMP:20260419T124655
CREATED:20241110T084908Z
LAST-MODIFIED:20241110T084926Z
UID:13095-1731337200-1731346200@jastkowice.com.pl
SUMMARY:Występ Grupy Rekonstrukcyjnej w Pysznicy z okazji 11 listopada 2024
DESCRIPTION:106. Rocznica Odzyskania Niepodległości \nWójt Gminy Pysznica\,\nDyrektor Domu Kultury w Pysznicy\,\nDyrektor PSP im. Armii Krajowej w Jastkowicach \nserdecznie zapraszają na uroczystości obchodów 106. Rocznicy Odzyskania Niepodległości w dniu 8 listopada 2024 w Jastkowicach \nPROGRAM \n17:00 – Msza Święta w Kościele parafialnym pw. Przemienienia Pańskiego w Jastkowicach\n18:00 – Uroczysta wieczornica z okazji 106. rocznicy odzyskania przez Polskę niepodległości przygotowana przez nauczycieli i uczniów Publicznej Szkoły Podstawowej im. Armii Krajowej w Jastkowicach pod hasłem „Dla Ciebie Polsko” w dniu 11 listopada 2024 w Pysznicy \nPROGRAM \n15:00 – Msza Święta za Ojczyznę w kościele parafialnym pw. Podwyższenia Krzyża Świętego i Św. Jana Chrzciciela w Pysznicy\nZłożenie wieńców pod krzyżem na placu przykościelnym \n16:15 – 16:30 – Przemarsz i uroczyste podniesienie flagi państwowej połączone z odśpiewaniem hymnu narodowego — przy pomniku Św. Floriana \n16:40 – „Polska w naszych sercach” – wspólne śpiewanie pieśni patriotycznych przy ognisku z udziałem artystów z Domu Kultury w Pysznicy oraz Grupy Rekonstrukcyjnej Żołnierzy Wojska Polskiego „Wrzesień 1939” – plac przy Domu Kultury w Pysznicy \n17:30 – ciepły poczęstunek
URL:https://jastkowice.com.pl/event/wystep-grupy-rekonstrukcyjnej-w-pysznicy-z-okazji-11-listopada-2024/
LOCATION:Pysznica\, ul Wolności 322\, Pysznica\, podkarpackie\, 37-403\, Poland
CATEGORIES:Grupa Rekonstrukcyjna,Koncert
ATTACH;FMTTYPE=image/jpeg:https://jastkowice.com.pl/wp-content/uploads/2022/11/11-Listopada-2022-w-Pysznicy-Grupa-Rekonstrukcyjna-Wrzesien-1939-07.jpg
END:VEVENT
END:VCALENDAR