BEGIN:VCALENDAR
VERSION:2.0
PRODID:-//Osada Kochany - ECPv6.5.1.6//NONSGML v1.0//EN
CALSCALE:GREGORIAN
METHOD:PUBLISH
X-WR-CALNAME:Osada Kochany
X-ORIGINAL-URL:https://jastkowice.com.pl
X-WR-CALDESC:Events for Osada Kochany
REFRESH-INTERVAL;VALUE=DURATION:PT1H
X-Robots-Tag:noindex
X-PUBLISHED-TTL:PT1H
BEGIN:VTIMEZONE
TZID:America/Los_Angeles
BEGIN:DAYLIGHT
TZOFFSETFROM:-0800
TZOFFSETTO:-0700
TZNAME:PDT
DTSTART:20240310T100000
END:DAYLIGHT
BEGIN:STANDARD
TZOFFSETFROM:-0700
TZOFFSETTO:-0800
TZNAME:PST
DTSTART:20241103T090000
END:STANDARD
END:VTIMEZONE
BEGIN:VEVENT
DTSTART;TZID=America/Los_Angeles:20240415T200000
DTEND;TZID=America/Los_Angeles:20241031T220000
DTSTAMP:20260423T140439
CREATED:20210915T012411Z
LAST-MODIFIED:20241110T085403Z
UID:11441-1713211200-1730412000@jastkowice.com.pl
SUMMARY:Sezon w Osadzie Kochany 2024
DESCRIPTION:Od 15 kwietnia możecie zwiedzać osadę!\nW tym roku\, możecie wybrać czy zwiedzacie \n\nPrawie ZOO\nŻywe Muzeum Wsi i Rzemiosła Polskiego\n\nDodatkowo możecie zorganizować ognisko w przygotowanym miejscu przy kapliczce.\nRównież organizujemy przeróżne warsztaty\, min. \n\nWarsztaty z robienia proziaków\nWytwarzanie naturalnych mydeł od podstaw\nSzyszkowa Osada – kreatywne tworzenie z darów natury\nPieczenie ciastek\n\nTo nie wszystko!\nBędziemy organizować między innymi: \n\nplenery malarskie\nplenery fotograficzne\nkonkursy\n\nWpadajcie z rodziną\, przyjaciółmi\, grupami hobbystycznymi\, znajomymi z pracy czy osobami z ktorymi chcecie spędzić razem czas\nw tym roku mamy również możliwość udostępnienia miejsca na konferencję i spotkania biznesowe! \nRezerwacje:\nTelefon: 15 8244290\nZapytania mailowe: biuro@jastkowice.com.pl
URL:https://jastkowice.com.pl/event/start-sezonu-w-osadzie-kochany/
LOCATION:Kochany\, Jastkowice\, Kochany 8\, Jastkowice\, podkarpackie\, 37-403\, Poland
CATEGORIES:Zwiedzanie Osady Kochany
ATTACH;FMTTYPE=image/jpeg:https://jastkowice.com.pl/wp-content/uploads/2024/03/osada-kochany-z-lotu-ptaka.jpeg
END:VEVENT
END:VCALENDAR